BEGIN:VCALENDAR
VERSION:2.0
PRODID:-//Los Cab Sports Club - ECPv6.15.16.1//NONSGML v1.0//EN
CALSCALE:GREGORIAN
METHOD:PUBLISH
X-WR-CALNAME:Los Cab Sports Club
X-ORIGINAL-URL:https://loscab.com
X-WR-CALDESC:Events for Los Cab Sports Club
REFRESH-INTERVAL;VALUE=DURATION:PT1H
X-Robots-Tag:noindex
X-PUBLISHED-TTL:PT1H
BEGIN:VTIMEZONE
TZID:America/Los_Angeles
BEGIN:DAYLIGHT
TZOFFSETFROM:-0800
TZOFFSETTO:-0700
TZNAME:PDT
DTSTART:20220313T100000
END:DAYLIGHT
BEGIN:STANDARD
TZOFFSETFROM:-0700
TZOFFSETTO:-0800
TZNAME:PST
DTSTART:20221106T090000
END:STANDARD
BEGIN:DAYLIGHT
TZOFFSETFROM:-0800
TZOFFSETTO:-0700
TZNAME:PDT
DTSTART:20230312T100000
END:DAYLIGHT
BEGIN:STANDARD
TZOFFSETFROM:-0700
TZOFFSETTO:-0800
TZNAME:PST
DTSTART:20231105T090000
END:STANDARD
BEGIN:DAYLIGHT
TZOFFSETFROM:-0800
TZOFFSETTO:-0700
TZNAME:PDT
DTSTART:20240310T100000
END:DAYLIGHT
BEGIN:STANDARD
TZOFFSETFROM:-0700
TZOFFSETTO:-0800
TZNAME:PST
DTSTART:20241103T090000
END:STANDARD
END:VTIMEZONE
BEGIN:VEVENT
DTSTART;TZID=America/Los_Angeles:20230704T080000
DTEND;TZID=America/Los_Angeles:20230704T230000
DTSTAMP:20260424T065450
CREATED:20230701T181841Z
LAST-MODIFIED:20230701T181841Z
UID:1904-1688457600-1688511600@loscab.com
SUMMARY:Fourth of July with a Pickleball Mixer
DESCRIPTION:This is a MEMBERS ONLY event.  Please register by going to:\n\nhttps://form.jotform.com/231804881996167 \n\n\n\n\n\n\n\n\nJuly 4 Picklefest Registration Form\nPlease click the link to complete this form.\nform.jotform.com\n\n\n\n\n\n\n\nor clicking on the QR code in the attached flyer.\n\n\nThis event will sell out.  Registration closes on Monday at noon.\n\n\nCheck In is 8:00 am on Tuesday.   Play begins immediately after everyone is checked in.\n\nPlay will end at 11 am.\n\nCowbell Pickleball – 10-12 minute games\, Move Up OR Move Down after each game.\n\nPartners Split after each game.\n\nGiven the number of expected participants you will probably PLAY ONE / REST ONE.\n\nGreat way to play some fun pickleball and meet more of your fellow members!\n\n144 Spots Available.\n\n***We will have a minimum of 4 courts available for members who do not register for the event***
URL:https://loscab.com/event/fourth-of-july-with-a-pickleball-mixer/
LOCATION:Los Cab\, 17272 Newhope Street\, Fountain Valley\, CA\, 92708\, United States
CATEGORIES:Pickleball
END:VEVENT
BEGIN:VEVENT
DTSTART;TZID=America/Los_Angeles:20230607T180000
DTEND;TZID=America/Los_Angeles:20230607T213000
DTSTAMP:20260424T065450
CREATED:20230606T165751Z
LAST-MODIFIED:20230607T030540Z
UID:1897-1686160800-1686173400@loscab.com
SUMMARY:Pro shop Pickleball Paddle Demo Night
DESCRIPTION:
URL:https://loscab.com/event/pro-shop-pickleball-paddle-demo-night/
END:VEVENT
BEGIN:VEVENT
DTSTART;TZID=America/Los_Angeles:20230529T110000
DTEND;TZID=America/Los_Angeles:20230529T160000
DTSTAMP:20260424T065450
CREATED:20230529T065100Z
LAST-MODIFIED:20230529T065100Z
UID:1895-1685358000-1685376000@loscab.com
SUMMARY:Memorial Day Summer Kick Off Pool Party
DESCRIPTION:
URL:https://loscab.com/event/memorial-day-summer-kick-off-pool-party/
END:VEVENT
BEGIN:VEVENT
DTSTART;TZID=America/Los_Angeles:20230529T090000
DTEND;TZID=America/Los_Angeles:20230529T130000
DTSTAMP:20260424T065450
CREATED:20230514T052240Z
LAST-MODIFIED:20230514T052240Z
UID:1866-1685350800-1685365200@loscab.com
SUMMARY:Memorial Day Tennis Doo-dah
DESCRIPTION:
URL:https://loscab.com/event/memorial-day-tennis-doo-dah/
END:VEVENT
BEGIN:VEVENT
DTSTART;TZID=America/Los_Angeles:20230529T081500
DTEND;TZID=America/Los_Angeles:20230529T110000
DTSTAMP:20260424T065450
CREATED:20230529T050705Z
LAST-MODIFIED:20230529T051441Z
UID:1892-1685348100-1685358000@loscab.com
SUMMARY:Pickleball Memorial Day Mixer
DESCRIPTION:
URL:https://loscab.com/event/pickleball-memorial-day-mixer/
END:VEVENT
BEGIN:VEVENT
DTSTART;TZID=America/Los_Angeles:20230429T080000
DTEND;TZID=America/Los_Angeles:20230430T190000
DTSTAMP:20260424T065450
CREATED:20230426T235734Z
LAST-MODIFIED:20230426T235734Z
UID:1855-1682755200-1682881200@loscab.com
SUMMARY:CAPA Pickleball Tournament - Spring Open
DESCRIPTION:
URL:https://loscab.com/event/capa-pickleball-tournament-spring-open/
LOCATION:Los Cab\, 17272 Newhope Street\, Fountain Valley\, CA\, 92708\, United States
ORGANIZER;CN="California Pickleball Association":MAILTO:capickleballassociation@gmail.com
END:VEVENT
END:VCALENDAR