BEGIN:VCALENDAR
VERSION:2.0
PRODID:-//Los Cab Sports Club - ECPv6.15.16.1//NONSGML v1.0//EN
CALSCALE:GREGORIAN
METHOD:PUBLISH
X-WR-CALNAME:Los Cab Sports Club
X-ORIGINAL-URL:https://loscab.com
X-WR-CALDESC:Events for Los Cab Sports Club
REFRESH-INTERVAL;VALUE=DURATION:PT1H
X-Robots-Tag:noindex
X-PUBLISHED-TTL:PT1H
BEGIN:VTIMEZONE
TZID:America/Los_Angeles
BEGIN:DAYLIGHT
TZOFFSETFROM:-0800
TZOFFSETTO:-0700
TZNAME:PDT
DTSTART:20240310T100000
END:DAYLIGHT
BEGIN:STANDARD
TZOFFSETFROM:-0700
TZOFFSETTO:-0800
TZNAME:PST
DTSTART:20241103T090000
END:STANDARD
BEGIN:DAYLIGHT
TZOFFSETFROM:-0800
TZOFFSETTO:-0700
TZNAME:PDT
DTSTART:20250309T100000
END:DAYLIGHT
BEGIN:STANDARD
TZOFFSETFROM:-0700
TZOFFSETTO:-0800
TZNAME:PST
DTSTART:20251102T090000
END:STANDARD
BEGIN:DAYLIGHT
TZOFFSETFROM:-0800
TZOFFSETTO:-0700
TZNAME:PDT
DTSTART:20260308T100000
END:DAYLIGHT
BEGIN:STANDARD
TZOFFSETFROM:-0700
TZOFFSETTO:-0800
TZNAME:PST
DTSTART:20261101T090000
END:STANDARD
BEGIN:DAYLIGHT
TZOFFSETFROM:-0800
TZOFFSETTO:-0700
TZNAME:PDT
DTSTART:20270314T100000
END:DAYLIGHT
BEGIN:STANDARD
TZOFFSETFROM:-0700
TZOFFSETTO:-0800
TZNAME:PST
DTSTART:20271107T090000
END:STANDARD
END:VTIMEZONE
BEGIN:VEVENT
DTSTART;TZID=America/Los_Angeles:20260219T180000
DTEND;TZID=America/Los_Angeles:20260219T200000
DTSTAMP:20260423T145504
CREATED:20260112T044413Z
LAST-MODIFIED:20260112T044413Z
UID:2660-1771524000-1771531200@loscab.com
SUMMARY:Racquetball League
DESCRIPTION:
URL:https://loscab.com/event/racquetball-league-7/
LOCATION:Los Cab\, 17272 Newhope Street\, Fountain Valley\, CA\, 92708\, United States
CATEGORIES:Racquetball
END:VEVENT
BEGIN:VEVENT
DTSTART;TZID=America/Los_Angeles:20260216T181500
DTEND;TZID=America/Los_Angeles:20260216T200000
DTSTAMP:20260423T145504
CREATED:20260112T051400Z
LAST-MODIFIED:20260112T051400Z
UID:2677-1771265700-1771272000@loscab.com
SUMMARY:Pickleball Leagues
DESCRIPTION:
URL:https://loscab.com/event/pickleball-leagues-4/
LOCATION:Los Cab\, 17272 Newhope Street\, Fountain Valley\, CA\, 92708\, United States
CATEGORIES:Pickleball
ORGANIZER;CN="On the Rise":MAILTO:pickleball@loscab.com
END:VEVENT
BEGIN:VEVENT
DTSTART;TZID=America/Los_Angeles:20260214T183000
DTEND;TZID=America/Los_Angeles:20260215T013000
DTSTAMP:20260423T145504
CREATED:20260203T013132Z
LAST-MODIFIED:20260203T013132Z
UID:2737-1771093800-1771119000@loscab.com
SUMMARY:Valentine's Party
DESCRIPTION:A Valentine’s to Remember – Saturday\, February 14th at Los Cab’s Timeless Venue\nNeed plans for Valentines\, we have you covered! Hosting at our Timeless Venue. Get your tickets now!If you’re coming to SATIN + LACE\, this is your nudge to lock it in. \nHere’s how the night flows: Cocktail hourTray-passed hors d’oeuvres + fresh salad \n Seated dinnerSurf + turf\, elevated and intentional \n Dessert + wine \nThen the lights shift… Ballroom vibes → club energyLive band & performers earlyDJ takes over later with EDM / Hip-Hop / 80s remix / New WaveSame room. Completely different energy. \nWe’ve also added new table options based on how people want to do Valentine’s: $600 Entertainment Tables• No dinner included• Comes with 1 bottle of Don Julio 1942• Perfect if you want to eat elsewhere and join us for the music\, dancing\, and late-night vibe These tables are highlighted in YELLOW on the chart \n Singles TableFor those single\, ready to mingle\, and not sitting Valentine’s out.This is not a show-up-whenever type of night.Tables are limited and confirmed with payment.If you’ve been meaning to book… now’s the time.Once tables are gone\, they’re gone. \n \n 
URL:https://loscab.com/event/valentines-party-2/
LOCATION:Los Cab\, 17272 Newhope Street\, Fountain Valley\, CA\, 92708\, United States
END:VEVENT
BEGIN:VEVENT
DTSTART;TZID=America/Los_Angeles:20260214T183000
DTEND;TZID=America/Los_Angeles:20260215T013000
DTSTAMP:20260423T145504
CREATED:20260112T050730Z
LAST-MODIFIED:20260112T050730Z
UID:2668-1771093800-1771119000@loscab.com
SUMMARY:Valentines Party
DESCRIPTION:
URL:https://loscab.com/event/valentines-party/
LOCATION:Los Cab\, 17272 Newhope Street\, Fountain Valley\, CA\, 92708\, United States
END:VEVENT
BEGIN:VEVENT
DTSTART;TZID=America/Los_Angeles:20260214T100000
DTEND;TZID=America/Los_Angeles:20260214T130000
DTSTAMP:20260423T145504
CREATED:20260112T052130Z
LAST-MODIFIED:20260112T052130Z
UID:2681-1771063200-1771074000@loscab.com
SUMMARY:Outdoor Handball Mixer
DESCRIPTION:Join the group on the 2nd Saturday of each month at the outdoor handball courts at the back of the club.  All members are welcome!
URL:https://loscab.com/event/outdoor-handball-mixer/
LOCATION:Los Cab\, 17272 Newhope Street\, Fountain Valley\, CA\, 92708\, United States
CATEGORIES:Handball
END:VEVENT
BEGIN:VEVENT
DTSTART;TZID=America/Los_Angeles:20260212T180000
DTEND;TZID=America/Los_Angeles:20260212T200000
DTSTAMP:20260423T145504
CREATED:20260112T044310Z
LAST-MODIFIED:20260112T044310Z
UID:2658-1770919200-1770926400@loscab.com
SUMMARY:Racquetball League
DESCRIPTION:
URL:https://loscab.com/event/racquetball-league-6/
LOCATION:Los Cab\, 17272 Newhope Street\, Fountain Valley\, CA\, 92708\, United States
CATEGORIES:Racquetball
END:VEVENT
BEGIN:VEVENT
DTSTART;TZID=America/Los_Angeles:20260209T181500
DTEND;TZID=America/Los_Angeles:20260209T200000
DTSTAMP:20260423T145504
CREATED:20260112T051257Z
LAST-MODIFIED:20260112T051257Z
UID:2675-1770660900-1770667200@loscab.com
SUMMARY:Pickleball Leagues
DESCRIPTION:
URL:https://loscab.com/event/pickleball-leagues-3/
LOCATION:Los Cab\, 17272 Newhope Street\, Fountain Valley\, CA\, 92708\, United States
CATEGORIES:Pickleball
ORGANIZER;CN="On the Rise":MAILTO:pickleball@loscab.com
END:VEVENT
BEGIN:VEVENT
DTSTART;TZID=America/Los_Angeles:20260208T090000
DTEND;TZID=America/Los_Angeles:20260208T130000
DTSTAMP:20260423T145504
CREATED:20260112T045046Z
LAST-MODIFIED:20260112T045046Z
UID:2666-1770541200-1770555600@loscab.com
SUMMARY:Super Bowl Doo-dah Tennis Tournament
DESCRIPTION:
URL:https://loscab.com/event/super-bowl-doo-dah-tennis-tournament/
LOCATION:Los Cab\, 17272 Newhope Street\, Fountain Valley\, CA\, 92708\, United States
CATEGORIES:Tennis
ORGANIZER;CN="Tennis @ Los Cab":MAILTO:lpalmer@loscab.com
END:VEVENT
BEGIN:VEVENT
DTSTART;VALUE=DATE:20260207
DTEND;VALUE=DATE:20260209
DTSTAMP:20260423T145504
CREATED:20260112T044826Z
LAST-MODIFIED:20260112T052724Z
UID:2664-1770422400-1770595199@loscab.com
SUMMARY:Cupid's Cup - On The Rise Pickleball Tournament
DESCRIPTION:
URL:https://loscab.com/event/cupids-cup-on-the-rise-pickleball-tournament/
LOCATION:Los Cab\, 17272 Newhope Street\, Fountain Valley\, CA\, 92708\, United States
CATEGORIES:Pickleball
ORGANIZER;CN="On the Rise":MAILTO:pickleball@loscab.com
END:VEVENT
BEGIN:VEVENT
DTSTART;TZID=America/Los_Angeles:20260205T180000
DTEND;TZID=America/Los_Angeles:20260205T200000
DTSTAMP:20260423T145504
CREATED:20260112T044206Z
LAST-MODIFIED:20260112T044206Z
UID:2656-1770314400-1770321600@loscab.com
SUMMARY:Racquetball League
DESCRIPTION:
URL:https://loscab.com/event/racquetball-league-5/
LOCATION:Los Cab\, 17272 Newhope Street\, Fountain Valley\, CA\, 92708\, United States
CATEGORIES:Racquetball
END:VEVENT
BEGIN:VEVENT
DTSTART;TZID=America/Los_Angeles:20260202T181500
DTEND;TZID=America/Los_Angeles:20260202T200000
DTSTAMP:20260423T145504
CREATED:20260112T051150Z
LAST-MODIFIED:20260112T051150Z
UID:2673-1770056100-1770062400@loscab.com
SUMMARY:Pickleball Leagues
DESCRIPTION:
URL:https://loscab.com/event/pickleball-leagues-2/
LOCATION:Los Cab\, 17272 Newhope Street\, Fountain Valley\, CA\, 92708\, United States
CATEGORIES:Pickleball
ORGANIZER;CN="On the Rise":MAILTO:pickleball@loscab.com
END:VEVENT
BEGIN:VEVENT
DTSTART;TZID=America/Los_Angeles:20260129T180000
DTEND;TZID=America/Los_Angeles:20260129T200000
DTSTAMP:20260423T145504
CREATED:20260112T044059Z
LAST-MODIFIED:20260112T044059Z
UID:2654-1769709600-1769716800@loscab.com
SUMMARY:Racquetball League
DESCRIPTION:
URL:https://loscab.com/event/racquetball-league-4/
LOCATION:Los Cab\, 17272 Newhope Street\, Fountain Valley\, CA\, 92708\, United States
CATEGORIES:Racquetball
END:VEVENT
BEGIN:VEVENT
DTSTART;TZID=America/Los_Angeles:20260126T180000
DTEND;TZID=America/Los_Angeles:20260126T200000
DTSTAMP:20260423T145504
CREATED:20260112T051039Z
LAST-MODIFIED:20260112T051039Z
UID:2671-1769450400-1769457600@loscab.com
SUMMARY:Pickleball Leagues
DESCRIPTION:
URL:https://loscab.com/event/pickleball-leagues/
LOCATION:Los Cab\, 17272 Newhope Street\, Fountain Valley\, CA\, 92708\, United States
CATEGORIES:Pickleball
ORGANIZER;CN="On the Rise":MAILTO:pickleball@loscab.com
END:VEVENT
BEGIN:VEVENT
DTSTART;TZID=America/Los_Angeles:20260122T180000
DTEND;TZID=America/Los_Angeles:20260122T200000
DTSTAMP:20260423T145504
CREATED:20260112T043455Z
LAST-MODIFIED:20260112T043626Z
UID:2648-1769104800-1769112000@loscab.com
SUMMARY:Racquetball League
DESCRIPTION:
URL:https://loscab.com/event/racquetball-league/
LOCATION:Los Cab\, 17272 Newhope Street\, Fountain Valley\, CA\, 92708\, United States
CATEGORIES:Racquetball
END:VEVENT
BEGIN:VEVENT
DTSTART;TZID=America/Los_Angeles:20260117T080000
DTEND;TZID=America/Los_Angeles:20260117T130000
DTSTAMP:20260423T145504
CREATED:20260112T043256Z
LAST-MODIFIED:20260112T043256Z
UID:2646-1768636800-1768654800@loscab.com
SUMMARY:Los Cab Open House
DESCRIPTION:
URL:https://loscab.com/event/los-cab-open-house/
LOCATION:Los Cab\, 17272 Newhope Street\, Fountain Valley\, CA\, 92708\, United States
END:VEVENT
BEGIN:VEVENT
DTSTART;TZID=America/Los_Angeles:20260115T180000
DTEND;TZID=America/Los_Angeles:20260115T200000
DTSTAMP:20260423T145504
CREATED:20260112T043951Z
LAST-MODIFIED:20260112T043951Z
UID:2652-1768500000-1768507200@loscab.com
SUMMARY:Racquetball League
DESCRIPTION:
URL:https://loscab.com/event/racquetball-league-3/
LOCATION:Los Cab\, 17272 Newhope Street\, Fountain Valley\, CA\, 92708\, United States
CATEGORIES:Racquetball
END:VEVENT
BEGIN:VEVENT
DTSTART;TZID=America/Los_Angeles:20260108T180000
DTEND;TZID=America/Los_Angeles:20260108T200000
DTSTAMP:20260423T145504
CREATED:20260112T043846Z
LAST-MODIFIED:20260112T043846Z
UID:2650-1767895200-1767902400@loscab.com
SUMMARY:Racquetball League
DESCRIPTION:
URL:https://loscab.com/event/racquetball-league-2/
LOCATION:Los Cab\, 17272 Newhope Street\, Fountain Valley\, CA\, 92708\, United States
END:VEVENT
BEGIN:VEVENT
DTSTART;TZID=America/Los_Angeles:20251011T080000
DTEND;TZID=America/Los_Angeles:20251012T200000
DTSTAMP:20260423T145504
CREATED:20250918T060357Z
LAST-MODIFIED:20250918T060357Z
UID:2550-1760169600-1760299200@loscab.com
SUMMARY:Pickleball Tournament - On The Rise - Fall Festival
DESCRIPTION:We welcome all intermediate level players in this thrilling and competitive event. This tournament is a fantastic opportunity to showcase your skills and compete against other racquetball players. \n\nRacquetball – Sport Information & Rules \nDoubles Round Robin and Medal Round \n\nThis is blind draw shootout so no need to have a partner. You will be paired up with a partner. \n\nRegistration is now open! Don’t miss your chance to participate in this exciting event. The registration deadline is same day as the shootout but please be there by 5:30 for registration. \n\nWe can’t wait to see you on the court. \n  \nWe are looking for sponsors! Especially anyone out there that is a local or member of Los Cab that is involved with a food\, drink\, or pickleball company/brand. We are also looking for volunteers. Please message pickleball@loscab.com. Volunteers will receive a discount code for a free event.\n\n******Sponsorship for OTR Tournaments******\n\n>>>Tier 1 – $500 sleeve + 1 social media shoutout w/ limit 2 banners & 1 vendor spot\n\n>>>Tier 2 – $1\,000 sleeve + 2 social media shoutouts w/ unlimited banners & 1 vendor spot\n\n>>>Tier 3 – $2\,000 back of shirt + 3 social media shoutouts w/ unlimited banners & best vendor spot\n\n—-Banners limited to 20 square feet—
URL:https://loscab.com/event/pickleball-tournament-on-the-rise-fall-festival/
CATEGORIES:Pickleball
ORGANIZER;CN="On the Rise":MAILTO:pickleball@loscab.com
END:VEVENT
BEGIN:VEVENT
DTSTART;TZID=America/Los_Angeles:20250925T180000
DTEND;TZID=America/Los_Angeles:20250925T210000
DTSTAMP:20260423T145504
CREATED:20250918T060015Z
LAST-MODIFIED:20250918T060015Z
UID:2548-1758823200-1758834000@loscab.com
SUMMARY:Racquetball - Cash and Pizza Shootout
DESCRIPTION:  \n  \nWhen : Thursday\, September 25\, 2025 @ 6pm to 9pm \nWhere: Los Cab Sports Club\, 17272 Newhope St\, Fountain Valley\, Ca \nCost is $10 for members and $20 for non members \nRegistration start at 5:30pm and games will start at 6:00pm \nContact: George @ racquetball.shootout@gmail.com \nWe welcome all intermediate level players in this thrilling and competitive event. This tournament is a fantastic opportunity to showcase your skills and compete against other racquetball players. \n\nRacquetball – Sport Information & Rules \nDoubles Round Robin and Medal Round \n\nThis is blind draw shootout so no need to have a partner. You will be paired up with a partner. \n\nRegistration is now open! Don’t miss your chance to participate in this exciting event. The registration deadline is same day as the shootout but please be there by 5:30 for registration. \n\nWe can’t wait to see you on the court. \n  \n 
URL:https://loscab.com/event/racquetball-cash-and-pizza-shootout/
LOCATION:Los Cab\, 17272 Newhope Street\, Fountain Valley\, CA\, 92708\, United States
CATEGORIES:Racquetball
END:VEVENT
BEGIN:VEVENT
DTSTART;TZID=America/Los_Angeles:20250907T080000
DTEND;TZID=America/Los_Angeles:20250907T200000
DTSTAMP:20260423T145504
CREATED:20250812T192219Z
LAST-MODIFIED:20250812T192219Z
UID:2488-1757232000-1757275200@loscab.com
SUMMARY:
DESCRIPTION:  \n\n\nTournament Description\n\n\nOn the Rise Pickleball Tournament Series: 10th Edition\nHosted at Los Cab Sports Club\, Fountain Valley\, CA\n\n— End of Summer Showdown —\n\nFollow us on Instagram @onetherise_pickleball for live updates and highlights!\n\n————————————————————————————\n\nTournament Overview\n\nJoin us for the 10th installment of the On the Rise Pickleball Tournament Series!\n\nThe tournament will follow USAPA rules and feature competitive play across multiple skill levels and age brackets. All matches will be reported to DUPR.\n\n—\n\nKey Details\n\n– Registration Deadline: September 3rd @ 11:55 PM\n\n– Tournament Dates:\n\n– – Saturday\, September 6th: Men’s & Women’s Doubles (3.0–5.0\, 40+)\n\n– – Sunday\, September 7th: Mixed Doubles (3.0–5.0\, 40+)\, Men’s & Women’s Singles (3.0–5.0\, 40+)\n\nEvent Structure\n\nRound Robin Format with Playoffs:\n– Teams are grouped into pools based on registration numbers (e.g.\, 4–7 teams per pool). Top teams from each pool advance to playoffs.\n– Round Robin Games: Play to 15 points\, win by 1.\n– Playoff/Medal Matches: Play to 15 points\, win by 2.\n\nPool Examples:\n– 4–9 teams: Single pool\, top 4 advance.\n– 10+ teams: Split into multiple pools (e.g.\, 10 teams = 2 pools of 5; 18 teams = 3 pools of 6). Full pool breakdown available upon registration.\n\n—\n\nEvents & Registration Fees\n\n– Doubles & Mixed Doubles (Including 40+ Divisions):\n– Skill Levels: 3.0\, 3.5\, 4.0\, 4.5\, 5.0\n– Fee: $70 per player / $140 per team\n\n– Singles (Men’s & Women’s):\n– Skill Levels: 3.0\, 3.5\, 4.0\, 4.5\, 5.0\n– Fee: $70 per player\n\n—\n\nDetailed Schedule\n\nSaturday\, September 6th\n-Doubles:\n– 3.0 & 4.5: 8:00 AM\n– 3.5 & 4.0: 12:00 PM\n– 5.0: 4:00 PM\n\nSunday\, September 7th\n– Mixed Doubles:\n– 3.0 & 4.5: 8:00 AM\n– 3.5 & 4.0 12:00 PM\n– 5.0: 4:00 PM\n\n– Singles:\n-3.5 & 5.0: 8:00 AM\n-3.0 & 4.5: 12:00 PM\n-4.0: 4:00 PM\n\n—\n\nAdditional Information\n\n– Tournament Ball: Franklin X-40\n– Food Services: Enjoy breakfast burritos\, tacos\, and more from Estefany’s Family Kitchen\, available all weekend.\n– Venue: Los Cab Sports Club offers premier pickleball facilities. Spectators welcome!\n\n—\n\nSecure your spot by September 3rd and prepare for a weekend of competitive play\, camaraderie\, and fun.\n\n\n\n\nAdditional Information\n\n\nWe are looking for sponsors! Especially anyone out there that is a local or member of Los Cab that is involved with a food\, drink\, or pickleball company/brand. We are also looking for volunteers. Please message pickleball@loscab.com. Volunteers will receive a discount code for a free event.\n\n******Sponsorship for OTR Tournaments******\n\n>>>Tier 1 – $500 sleeve + 1 social media shoutout w/ limit 2 banners & 1 vendor spot\n\n>>>Tier 2 – $1\,000 sleeve + 2 social media shoutouts w/ unlimited banners & 1 vendor spot\n\n>>>Tier 3 – $2\,000 back of shirt + 3 social media shoutouts w/ unlimited banners & best vendor spot\n\n—-Banners limited to 20 square feet—\n\n\n\n\n\nRefund Policy\n\n\nIf an event does not have enough players for teams to compete then a refund will be given to all those that have registered for the event.\n\n\n\n\n\nPrize Money\n\n\nPrize money for 5.0 Doubles & Mixed Doubles ‘Moneyball’\n50% of the entry fee for each registration into the ‘Moneyball’ will go towards the total prize money.
URL:https://loscab.com/event/2488/
LOCATION:Los Cab\, 17272 Newhope Street\, Fountain Valley\, CA\, 92708\, United States
CATEGORIES:Pickleball
ORGANIZER;CN="On the Rise":MAILTO:pickleball@loscab.com
END:VEVENT
BEGIN:VEVENT
DTSTART;TZID=America/Los_Angeles:20250906T080000
DTEND;TZID=America/Los_Angeles:20250906T200000
DTSTAMP:20260423T145504
CREATED:20250812T192006Z
LAST-MODIFIED:20250812T192038Z
UID:2485-1757145600-1757188800@loscab.com
SUMMARY:End of Summer Showdown - Pickleball Tournament
DESCRIPTION:  \n\n\nTournament Description\n\n\n\nOn the Rise Pickleball Tournament Series: 10th Edition\nHosted at Los Cab Sports Club\, Fountain Valley\, CA\n\n— End of Summer Showdown —\n\nFollow us on Instagram @onetherise_pickleball for live updates and highlights!\n\n\n————————————————————————————\n\n\nTournament Overview\n\nJoin us for the 10th installment of the On the Rise Pickleball Tournament Series!\n\nThe tournament will follow USAPA rules and feature competitive play across multiple skill levels and age brackets. All matches will be reported to DUPR.\n\n—\n\nKey Details\n\n– Registration Deadline: September 3rd @ 11:55 PM\n\n– Tournament Dates:\n\n– – Saturday\, September 6th: Men’s & Women’s Doubles (3.0–5.0\, 40+)\n\n– – Sunday\, September 7th: Mixed Doubles (3.0–5.0\, 40+)\, Men’s & Women’s Singles (3.0–5.0\, 40+)\n\nEvent Structure\n\nRound Robin Format with Playoffs:\n– Teams are grouped into pools based on registration numbers (e.g.\, 4–7 teams per pool). Top teams from each pool advance to playoffs.\n– Round Robin Games: Play to 15 points\, win by 1.\n– Playoff/Medal Matches: Play to 15 points\, win by 2.\n\nPool Examples:\n– 4–9 teams: Single pool\, top 4 advance.\n– 10+ teams: Split into multiple pools (e.g.\, 10 teams = 2 pools of 5; 18 teams = 3 pools of 6). Full pool breakdown available upon registration.\n\n—\n\nEvents & Registration Fees\n\n– Doubles & Mixed Doubles (Including 40+ Divisions):\n– Skill Levels: 3.0\, 3.5\, 4.0\, 4.5\, 5.0\n– Fee: $70 per player / $140 per team\n\n– Singles (Men’s & Women’s):\n– Skill Levels: 3.0\, 3.5\, 4.0\, 4.5\, 5.0\n– Fee: $70 per player\n\n—\n\nDetailed Schedule\n\nSaturday\, September 6th\n-Doubles:\n– 3.0 & 4.5: 8:00 AM\n– 3.5 & 4.0: 12:00 PM\n– 5.0: 4:00 PM\n\nSunday\, September 7th\n– Mixed Doubles:\n– 3.0 & 4.5: 8:00 AM\n– 3.5 & 4.0 12:00 PM\n– 5.0: 4:00 PM\n\n– Singles:\n-3.5 & 5.0: 8:00 AM\n-3.0 & 4.5: 12:00 PM\n-4.0: 4:00 PM\n\n—\n\nAdditional Information\n\n– Tournament Ball: Franklin X-40\n– Food Services: Enjoy breakfast burritos\, tacos\, and more from Estefany’s Family Kitchen\, available all weekend.\n– Venue: Los Cab Sports Club offers premier pickleball facilities. Spectators welcome!\n\n—\n\nSecure your spot by September 3rd and prepare for a weekend of competitive play\, camaraderie\, and fun.\n\n\n\n\nAdditional Information\n\n\nWe are looking for sponsors! Especially anyone out there that is a local or member of Los Cab that is involved with a food\, drink\, or pickleball company/brand. We are also looking for volunteers. Please message pickleball@loscab.com. Volunteers will receive a discount code for a free event.\n\n******Sponsorship for OTR Tournaments******\n\n>>>Tier 1 – $500 sleeve + 1 social media shoutout w/ limit 2 banners & 1 vendor spot\n\n>>>Tier 2 – $1\,000 sleeve + 2 social media shoutouts w/ unlimited banners & 1 vendor spot\n\n>>>Tier 3 – $2\,000 back of shirt + 3 social media shoutouts w/ unlimited banners & best vendor spot\n\n—-Banners limited to 20 square feet—\n\n\n\n\n\nRefund Policy\n\n\nIf an event does not have enough players for teams to compete then a refund will be given to all those that have registered for the event.\n\n\n\n\n\nPrize Money\n\n\nPrize money for 5.0 Doubles & Mixed Doubles ‘Moneyball’\n50% of the entry fee for each registration into the ‘Moneyball’ will go towards the total prize money.
URL:https://loscab.com/event/end-of-summer-showdown-pickleball-tournament/
LOCATION:Los Cab\, 17272 Newhope Street\, Fountain Valley\, CA\, 92708\, United States
ORGANIZER;CN="On the Rise":MAILTO:pickleball@loscab.com
END:VEVENT
BEGIN:VEVENT
DTSTART;TZID=America/Los_Angeles:20250901T090000
DTEND;TZID=America/Los_Angeles:20250901T130000
DTSTAMP:20260423T145504
CREATED:20250820T004333Z
LAST-MODIFIED:20250821T182954Z
UID:2494-1756717200-1756731600@loscab.com
SUMMARY:Tennis - Labor Day Doodah
DESCRIPTION:
URL:https://loscab.com/event/tennis-labor-day-doodah/
LOCATION:Los Cab\, 17272 Newhope Street\, Fountain Valley\, CA\, 92708\, United States
CATEGORIES:Tennis
END:VEVENT
BEGIN:VEVENT
DTSTART;TZID=America/Los_Angeles:20250828T173000
DTEND;TZID=America/Los_Angeles:20250828T210000
DTSTAMP:20260423T145504
CREATED:20250826T221512Z
LAST-MODIFIED:20250826T221512Z
UID:2496-1756402200-1756414800@loscab.com
SUMMARY:Pizza Racquetball Shootout Tournament
DESCRIPTION:Free to members – $10 for non members
URL:https://loscab.com/event/pizza-racquetball-shootout-tournament/
LOCATION:Los Cab\, 17272 Newhope Street\, Fountain Valley\, CA\, 92708\, United States
CATEGORIES:Racquetball
END:VEVENT
BEGIN:VEVENT
DTSTART;TZID=America/Los_Angeles:20250812T160000
DTEND;TZID=America/Los_Angeles:20250812T170000
DTSTAMP:20260423T145504
CREATED:20250722T232454Z
LAST-MODIFIED:20250722T232454Z
UID:2476-1755014400-1755018000@loscab.com
SUMMARY:Racquetball Adult Clinic
DESCRIPTION:
URL:https://loscab.com/event/racquetball-adult-clinic-2/
LOCATION:Los Cab\, 17272 Newhope Street\, Fountain Valley\, CA\, 92708\, United States
CATEGORIES:Racquetball
END:VEVENT
BEGIN:VEVENT
DTSTART;TZID=America/Los_Angeles:20250812T153000
DTEND;TZID=America/Los_Angeles:20250812T160000
DTSTAMP:20260423T145504
CREATED:20250722T232345Z
LAST-MODIFIED:20250722T232345Z
UID:2473-1755012600-1755014400@loscab.com
SUMMARY:Racquetball Junior Clinic -Ages 10 - 17
DESCRIPTION:
URL:https://loscab.com/event/racquetball-junior-clinic-ages-10-17-2/
LOCATION:Los Cab\, 17272 Newhope Street\, Fountain Valley\, CA\, 92708\, United States
CATEGORIES:Racquetball
END:VEVENT
BEGIN:VEVENT
DTSTART;TZID=America/Los_Angeles:20250809T090000
DTEND;TZID=America/Los_Angeles:20250810T170000
DTSTAMP:20260423T145504
CREATED:20250802T200213Z
LAST-MODIFIED:20250802T200317Z
UID:2481-1754730000-1754845200@loscab.com
SUMMARY:Handball - Baby-doll Summer Classic Handball Tournament
DESCRIPTION:Format: Doubles: games to 21\, tiebreaker to 11. Drop down\nFee: $140 per team Juniors: Free\nDeadline: August 4\, 2025 \nDirector: Ralph Fregoso (909)210-1893 mailto:ralphfreg67@aol.com\nRules: USHA rules apply\, eye guards mandatory\, 21 ball\nHospitality: Food Sat/Sun and tournament shirts. \nPrize money: Open Division: 1st place\, $1200/ 2nd place $600 (may increase/decrease based on entries)\nTrophies in all other divisions: USHA members receive a free headband \nSmall Ball Doubles: Open/A☐ 130+ 110+ B/C Junior\nJunior event starts Sunday morning at 9am. Juniors will be paired with partners on day of the event.
URL:https://loscab.com/event/handball-baby-doll-summer-classic-handball-tournament/
LOCATION:Los Cab\, 17272 Newhope Street\, Fountain Valley\, CA\, 92708\, United States
CATEGORIES:Handball
END:VEVENT
BEGIN:VEVENT
DTSTART;TZID=America/Los_Angeles:20250805T160000
DTEND;TZID=America/Los_Angeles:20250805T170000
DTSTAMP:20260423T145504
CREATED:20250722T232148Z
LAST-MODIFIED:20250722T232148Z
UID:2471-1754409600-1754413200@loscab.com
SUMMARY:Racquetball Adult Clinic
DESCRIPTION:
URL:https://loscab.com/event/racquetball-adult-clinic/
LOCATION:Los Cab\, 17272 Newhope Street\, Fountain Valley\, CA\, 92708\, United States
CATEGORIES:Racquetball
END:VEVENT
BEGIN:VEVENT
DTSTART;TZID=America/Los_Angeles:20250805T153000
DTEND;TZID=America/Los_Angeles:20250805T160000
DTSTAMP:20260423T145504
CREATED:20250722T232013Z
LAST-MODIFIED:20250722T232013Z
UID:2469-1754407800-1754409600@loscab.com
SUMMARY:Racquetball Junior Clinic - Ages 10-17
DESCRIPTION:
URL:https://loscab.com/event/racquetball-junior-clinic-ages-10-17/
LOCATION:Los Cab\, 17272 Newhope Street\, Fountain Valley\, CA\, 92708\, United States
CATEGORIES:Racquetball
END:VEVENT
BEGIN:VEVENT
DTSTART;VALUE=DATE:20250801
DTEND;VALUE=DATE:20250804
DTSTAMP:20260423T145504
CREATED:20250625T081541Z
LAST-MODIFIED:20250625T081717Z
UID:2439-1754006400-1754265599@loscab.com
SUMMARY:On The Rise - Summer Slam PB Tournament
DESCRIPTION:Tournament Overview\nJoin us for the 9th installment of the On the Rise Pickleball Tournament Series! This event will follow USAPA rules and feature competitive play across multiple skill levels and age brackets. All matches (excluding Open divisions) will be reported to DUPR.\n\n—\n\nKey Details\n– Registration Deadline: July 31\n– Tournament Dates:\n– Friday\, August 1: Men’s & Women’s Singles (3.0–5.0\, 40+)\, starting at 4:00 PM\n– Saturday\, August 2: Mixed Doubles (3.0–5.0\, 40+)\, starting at 8:00 AM\n– Sunday\, August 3: Men’s & Women’s Doubles (3.0–5.0\, 40+)\, starting at 8:00 AM\n\n—\n\nEvent Structure\nRound Robin Format with Playoffs:\n– Teams are grouped into pools based on registration numbers (e.g.\, 4–7 teams per pool). Top teams from each pool advance to playoffs.\n– Round Robin Games: Play to 15 points\, win by 1.\n– Playoff/Medal Matches: Play to 15 points\, win by 2.\n\nPool Examples:\n\n\n– 4–7 teams: Single pool\, top 3 advance.\n– 8+ teams: Split into multiple pools (e.g.\, 8 teams = 2 pools of 4; 20 teams = 4 pools of 5). Full pool breakdown available upon registration.\n\n—\n\nEvents & Registration Fees\n– Doubles & Mixed Doubles (Including 40+ Divisions):\n– Skill Levels: 3.0\, 3.5\, 4.0\, 4.5\, 5.0\n– Fee: $60 per player / $110 per team\n\n– Singles (Men’s & Women’s):\n– Skill Levels: 3.0\, 3.5\, 4.0\, 4.5\, 5.0\n– Fee: $60 per player\n\n– Open Divisions (Mixed\, Doubles\, Singles):\n– Fee: $110 per player / $220 per team\n\n—\n\nDetailed Schedule\nFriday\, August 1\n– Men’s & Women’s Singles (All skill levels): 4:00 PM\n\nSaturday\, August 2\n– Mixed Doubles:\n– 3.0 & 4.0: 8:00 AM\n– 3.5 & 4.5: 11:00 AM\n– 5.0: 8:00 AM\n\nSunday\, August 3\n– Men’s & Women’s Doubles:\n– 3.0 & 5.0: 8:00 AM\n– 3.5 & 4.5: 12:00 PM\n– 4.0: 4:00 PM\n\n—\n\nAdditional Information\n– Food Services: Enjoy breakfast burritos\, tacos\, and more from Estefany’s Family Kitchen\, available all weekend.\n– Venue: Los Cab Sports Club offers premier pickleball facilities. Spectators welcome!\n\n—\n\nSecure your spot by July 31 and prepare for a weekend of competitive play\, camaraderie\, and fun.\n\n\n\nAdditional Information\n\n\nWe are looking for sponsors! Especially anyone out there that is a local or member of Los Cab that is involved with a food\, drink\, or pickleball company/brand. We are also looking for volunteers. Please message pickleball@loscab.com. Volunteers will receive a discount code for a free event.\n\n\n\n\nRefund Policy\n\n\nIf an event does not have enough players for teams to compete then a refund will be given to all those that have registered for the event.\n\n\n\nPrize Money\n\n\n\nMOD\, WOD\, Mxd Open *Prize money is split between partners*\n48+ teams: $2000 (1st)\, $1200 (2nd)\, $800 (3rd)\, $400 (4th)\n32+ teams: $1200\, $800\, $400\n16+ teams: $750\, $500\, $250\n8+ teams $500\, $250\n4+ teams $400\, $200\n\nMOS\, WOS\n48+ teams: $1000\, $600\, $300\n32+ teams: $600\, $300\, $200\n16+ teams: $400\, $200\n8+ teams: $200\, $100
URL:https://loscab.com/event/on-the-rise-summer-slam-pb-tournament/
CATEGORIES:Pickleball
END:VEVENT
BEGIN:VEVENT
DTSTART;TZID=America/Los_Angeles:20250722T170000
DTEND;TZID=America/Los_Angeles:20250722T180000
DTSTAMP:20260423T145504
CREATED:20250717T000700Z
LAST-MODIFIED:20250717T005204Z
UID:2465-1753203600-1753207200@loscab.com
SUMMARY:Racquetball Clinic – Court positioning and shot selection and serves
DESCRIPTION:
URL:https://loscab.com/event/racquetball-clinic-court-positioning-and-shot-selection-and-serves-2/
LOCATION:Los Cab\, 17272 Newhope Street\, Fountain Valley\, CA\, 92708\, United States
CATEGORIES:Racquetball
END:VEVENT
END:VCALENDAR