BEGIN:VCALENDAR
VERSION:2.0
PRODID:-//Los Cab Sports Club - ECPv6.15.16.1//NONSGML v1.0//EN
CALSCALE:GREGORIAN
METHOD:PUBLISH
X-WR-CALNAME:Los Cab Sports Club
X-ORIGINAL-URL:https://loscab.com
X-WR-CALDESC:Events for Los Cab Sports Club
REFRESH-INTERVAL;VALUE=DURATION:PT1H
X-Robots-Tag:noindex
X-PUBLISHED-TTL:PT1H
BEGIN:VTIMEZONE
TZID:America/Los_Angeles
BEGIN:DAYLIGHT
TZOFFSETFROM:-0800
TZOFFSETTO:-0700
TZNAME:PDT
DTSTART:20250309T100000
END:DAYLIGHT
BEGIN:STANDARD
TZOFFSETFROM:-0700
TZOFFSETTO:-0800
TZNAME:PST
DTSTART:20251102T090000
END:STANDARD
BEGIN:DAYLIGHT
TZOFFSETFROM:-0800
TZOFFSETTO:-0700
TZNAME:PDT
DTSTART:20260308T100000
END:DAYLIGHT
BEGIN:STANDARD
TZOFFSETFROM:-0700
TZOFFSETTO:-0800
TZNAME:PST
DTSTART:20261101T090000
END:STANDARD
BEGIN:DAYLIGHT
TZOFFSETFROM:-0800
TZOFFSETTO:-0700
TZNAME:PDT
DTSTART:20270314T100000
END:DAYLIGHT
BEGIN:STANDARD
TZOFFSETFROM:-0700
TZOFFSETTO:-0800
TZNAME:PST
DTSTART:20271107T090000
END:STANDARD
END:VTIMEZONE
BEGIN:VEVENT
DTSTART;TZID=America/Los_Angeles:20260405T080000
DTEND;TZID=America/Los_Angeles:20260405T170000
DTSTAMP:20260423T132145
CREATED:20260310T074235Z
LAST-MODIFIED:20260310T074235Z
UID:2851-1775376000-1775408400@loscab.com
SUMMARY:Easter - Hours - 8am - 5pm
DESCRIPTION:
URL:https://loscab.com/event/easter-hours-8am-5pm/
END:VEVENT
BEGIN:VEVENT
DTSTART;TZID=America/Los_Angeles:20260408T080000
DTEND;TZID=America/Los_Angeles:20260408T120000
DTSTAMP:20260423T132145
CREATED:20260403T022245Z
LAST-MODIFIED:20260403T022255Z
UID:2911-1775635200-1775649600@loscab.com
SUMMARY:Pickleball Legends Tournament 50+
DESCRIPTION:
URL:https://loscab.com/event/pickleball-legends-tournament-50/
LOCATION:Los Cab\, 17272 Newhope Street\, Fountain Valley\, CA\, 92708\, United States
CATEGORIES:Pickleball
END:VEVENT
BEGIN:VEVENT
DTSTART;TZID=America/Los_Angeles:20260408T080000
DTEND;TZID=America/Los_Angeles:20260408T170000
DTSTAMP:20260423T132145
CREATED:20260310T081124Z
LAST-MODIFIED:20260310T081124Z
UID:2853-1775635200-1775667600@loscab.com
SUMMARY:Inaugural- Members Only- 50+ Pickleball Legends of Los Cab Tournament 
DESCRIPTION:Join us for a fun day of competition & community at Los Cab!\n The winning teams will have their names engraved on the Los Cab Perpetual Trophy\, which will be proudly displayed in the lobby.\n Medals awarded for 1st\, 2nd\, & 3rd place in each division.\n Partner Format: Female + Female or Female + Male (Male + Male teams are not eligible).\n Division Minimum: 4–6 teams required per division.\n Entry Fee: $10 per player\, paid in advance in cash to Stacy Winberg.\n POTLUCK: Bring a dish to share!\nSign up on TEAM REACH!!
URL:https://loscab.com/event/inaugural-members-only-50-pickleball-legends-of-los-cab-tournament/
LOCATION:Los Cab\, 17272 Newhope Street\, Fountain Valley\, CA\, 92708\, United States
CATEGORIES:Pickleball
ORGANIZER;CN="On the Rise":MAILTO:pickleball@loscab.com
END:VEVENT
BEGIN:VEVENT
DTSTART;TZID=America/Los_Angeles:20260411T100000
DTEND;TZID=America/Los_Angeles:20260411T130000
DTSTAMP:20260423T132145
CREATED:20260112T052338Z
LAST-MODIFIED:20260112T052338Z
UID:2685-1775901600-1775912400@loscab.com
SUMMARY:Outdoor Handball Courts
DESCRIPTION:Join the group on the 2nd Saturday of each month at the outdoor handball courts at the back of the club.  All members are welcome!
URL:https://loscab.com/event/outdoor-handball-courts/
LOCATION:Los Cab\, 17272 Newhope Street\, Fountain Valley\, CA\, 92708\, United States
CATEGORIES:Handball
END:VEVENT
BEGIN:VEVENT
DTSTART;VALUE=DATE:20260416
DTEND;VALUE=DATE:20260420
DTSTAMP:20260423T132145
CREATED:20260112T053230Z
LAST-MODIFIED:20260112T053230Z
UID:2691-1776297600-1776643199@loscab.com
SUMMARY:The Players Championship - Racquetball Tournament
DESCRIPTION:
URL:https://loscab.com/event/the-players-championship-racquetball-tournament/
LOCATION:Los Cab\, 17272 Newhope Street\, Fountain Valley\, CA\, 92708\, United States
CATEGORIES:Racquetball
END:VEVENT
BEGIN:VEVENT
DTSTART;VALUE=DATE:20260418
DTEND;VALUE=DATE:20260420
DTSTAMP:20260423T132145
CREATED:20260308T073325Z
LAST-MODIFIED:20260308T073325Z
UID:2826-1776470400-1776643199@loscab.com
SUMMARY:CAPA - OC Pickleball Championship
DESCRIPTION:
URL:https://loscab.com/event/capa-oc-pickleball-championship/
LOCATION:Los Cab\, 17272 Newhope Street\, Fountain Valley\, CA\, 92708\, United States
CATEGORIES:Pickleball
ORGANIZER;CN="California Pickleball Association":MAILTO:capickleballassociation@gmail.com
END:VEVENT
BEGIN:VEVENT
DTSTART;VALUE=DATE:20260424
DTEND;VALUE=DATE:20260427
DTSTAMP:20260423T132145
CREATED:20260226T222137Z
LAST-MODIFIED:20260226T222137Z
UID:2819-1776988800-1777247999@loscab.com
SUMMARY:US Open Paddleball Championships
DESCRIPTION:
URL:https://loscab.com/event/us-open-paddleball-championships-2/
LOCATION:Los Cab\, 17272 Newhope Street\, Fountain Valley\, CA\, 92708\, United States
CATEGORIES:Paddleball
END:VEVENT
BEGIN:VEVENT
DTSTART;VALUE=DATE:20260501
DTEND;VALUE=DATE:20260504
DTSTAMP:20260423T132145
CREATED:20260226T212801Z
LAST-MODIFIED:20260226T213409Z
UID:2811-1777593600-1777852799@loscab.com
SUMMARY:36th Annual Women's Senior/Masters Racquetball Association National Championships
DESCRIPTION:
URL:https://loscab.com/event/36th-annual-womens-senior-masters-racquetball-association-national-championships/
LOCATION:Los Cab\, 17272 Newhope Street\, Fountain Valley\, CA\, 92708\, United States
CATEGORIES:Racquetball
ORGANIZER;CN="Women's Senior/Masters Racquetball Association":MAILTO:cindy.tilbury@att.net
END:VEVENT
BEGIN:VEVENT
DTSTART;TZID=America/Los_Angeles:20260508T170000
DTEND;TZID=America/Los_Angeles:20260508T230000
DTSTAMP:20260423T132145
CREATED:20260112T054121Z
LAST-MODIFIED:20260112T054121Z
UID:2693-1778259600-1778281200@loscab.com
SUMMARY:Assistance League Diamond Jubilee Gala
DESCRIPTION:
URL:https://loscab.com/event/assistance-league-diamond-jubilee-gala/
CATEGORIES:Parties
END:VEVENT
BEGIN:VEVENT
DTSTART;TZID=America/Los_Angeles:20260509T100000
DTEND;TZID=America/Los_Angeles:20260509T130000
DTSTAMP:20260423T132145
CREATED:20260112T052440Z
LAST-MODIFIED:20260112T052440Z
UID:2687-1778320800-1778331600@loscab.com
SUMMARY:Outdoor Handball Mixer
DESCRIPTION:Join the group on the 2nd Saturday of each month at the outdoor handball courts at the back of the club.  All members are welcome!
URL:https://loscab.com/event/outdoor-handball-mixer-3/
LOCATION:Los Cab\, 17272 Newhope Street\, Fountain Valley\, CA\, 92708\, United States
CATEGORIES:Handball
END:VEVENT
BEGIN:VEVENT
DTSTART;TZID=America/Los_Angeles:20260613T100000
DTEND;TZID=America/Los_Angeles:20260613T130000
DTSTAMP:20260423T132145
CREATED:20260112T052545Z
LAST-MODIFIED:20260112T052545Z
UID:2689-1781344800-1781355600@loscab.com
SUMMARY:Outdoor Handball Mixer
DESCRIPTION:Join the group on the 2nd Saturday of each month at the outdoor handball courts at the back of the club.  All members are welcome!
URL:https://loscab.com/event/outdoor-handball-mixer-4/
LOCATION:Los Cab\, 17272 Newhope Street\, Fountain Valley\, CA\, 92708\, United States
CATEGORIES:Handball
END:VEVENT
END:VCALENDAR