BEGIN:VCALENDAR
VERSION:2.0
PRODID:-//Los Cab Sports Club - ECPv6.15.16.1//NONSGML v1.0//EN
CALSCALE:GREGORIAN
METHOD:PUBLISH
X-WR-CALNAME:Los Cab Sports Club
X-ORIGINAL-URL:https://loscab.com
X-WR-CALDESC:Events for Los Cab Sports Club
REFRESH-INTERVAL;VALUE=DURATION:PT1H
X-Robots-Tag:noindex
X-PUBLISHED-TTL:PT1H
BEGIN:VTIMEZONE
TZID:America/Los_Angeles
BEGIN:DAYLIGHT
TZOFFSETFROM:-0800
TZOFFSETTO:-0700
TZNAME:PDT
DTSTART:20240310T100000
END:DAYLIGHT
BEGIN:STANDARD
TZOFFSETFROM:-0700
TZOFFSETTO:-0800
TZNAME:PST
DTSTART:20241103T090000
END:STANDARD
BEGIN:DAYLIGHT
TZOFFSETFROM:-0800
TZOFFSETTO:-0700
TZNAME:PDT
DTSTART:20250309T100000
END:DAYLIGHT
BEGIN:STANDARD
TZOFFSETFROM:-0700
TZOFFSETTO:-0800
TZNAME:PST
DTSTART:20251102T090000
END:STANDARD
BEGIN:DAYLIGHT
TZOFFSETFROM:-0800
TZOFFSETTO:-0700
TZNAME:PDT
DTSTART:20260308T100000
END:DAYLIGHT
BEGIN:STANDARD
TZOFFSETFROM:-0700
TZOFFSETTO:-0800
TZNAME:PST
DTSTART:20261101T090000
END:STANDARD
END:VTIMEZONE
BEGIN:VEVENT
DTSTART;TZID=America/Los_Angeles:20250610T170000
DTEND;TZID=America/Los_Angeles:20250610T180000
DTSTAMP:20260423T161109
CREATED:20250602T063028Z
LAST-MODIFIED:20250602T063028Z
UID:2402-1749574800-1749578400@loscab.com
SUMMARY:Racquetball Clinic – Fundamentals of Racquetball and forehand and backhand
DESCRIPTION:
URL:https://loscab.com/event/racquetball-clinic-fundamentals-of-racquetball-and-forehand-and-backhand-2/
LOCATION:Los Cab\, 17272 Newhope Street\, Fountain Valley\, CA\, 92708\, United States
CATEGORIES:Racquetball
END:VEVENT
BEGIN:VEVENT
DTSTART;TZID=America/Los_Angeles:20250527T170000
DTEND;TZID=America/Los_Angeles:20250527T180000
DTSTAMP:20260423T161109
CREATED:20250512T221401Z
LAST-MODIFIED:20250512T222522Z
UID:2384-1748365200-1748368800@loscab.com
SUMMARY:Racquetball Clinic - Court positioning and shot selection
DESCRIPTION:
URL:https://loscab.com/event/racquetball-clinic-court-positioning-and-shot-selection/
LOCATION:Los Cab\, 17272 Newhope Street\, Fountain Valley\, CA\, 92708\, United States
CATEGORIES:Racquetball
END:VEVENT
BEGIN:VEVENT
DTSTART;TZID=America/Los_Angeles:20250513T170000
DTEND;TZID=America/Los_Angeles:20250513T180000
DTSTAMP:20260423T161109
CREATED:20250512T221233Z
LAST-MODIFIED:20250512T221233Z
UID:2381-1747155600-1747159200@loscab.com
SUMMARY:Racquetball Clinic - Fundamentals of racquetball and forehand and backhand
DESCRIPTION:
URL:https://loscab.com/event/racquetball-clinic-fundamentals-of-racquetball-and-forehand-and-backhand/
LOCATION:Los Cab\, 17272 Newhope Street\, Fountain Valley\, CA\, 92708\, United States
CATEGORIES:Racquetball
END:VEVENT
BEGIN:VEVENT
DTSTART;TZID=America/Los_Angeles:20250218T170000
DTEND;TZID=America/Los_Angeles:20250218T180000
DTSTAMP:20260423T161109
CREATED:20250211T232727Z
LAST-MODIFIED:20250211T232727Z
UID:2237-1739898000-1739901600@loscab.com
SUMMARY:Racquetball Coaching Clinic - Free
DESCRIPTION:
URL:https://loscab.com/event/racquetball-coaching-clinic-free-2/
LOCATION:Los Cab\, 17272 Newhope Street\, Fountain Valley\, CA\, 92708\, United States
CATEGORIES:Racquetball
END:VEVENT
BEGIN:VEVENT
DTSTART;TZID=America/Los_Angeles:20250218T160000
DTEND;TZID=America/Los_Angeles:20250218T170000
DTSTAMP:20260423T161109
CREATED:20250211T232519Z
LAST-MODIFIED:20250211T232827Z
UID:2233-1739894400-1739898000@loscab.com
SUMMARY:Racquetball Coaching Junior Clinic - Free
DESCRIPTION:
URL:https://loscab.com/event/racquetball-coaching-junior-clinic-free-2/
LOCATION:Los Cab\, 17272 Newhope Street\, Fountain Valley\, CA\, 92708\, United States
CATEGORIES:Racquetball
END:VEVENT
BEGIN:VEVENT
DTSTART;TZID=America/Los_Angeles:20250213T170000
DTEND;TZID=America/Los_Angeles:20250213T180000
DTSTAMP:20260423T161109
CREATED:20250211T232628Z
LAST-MODIFIED:20250211T232628Z
UID:2235-1739466000-1739469600@loscab.com
SUMMARY:Racquetball Coaching Clinic - Free
DESCRIPTION:
URL:https://loscab.com/event/racquetball-coaching-clinic-free/
LOCATION:Los Cab\, 17272 Newhope Street\, Fountain Valley\, CA\, 92708\, United States
CATEGORIES:Racquetball
END:VEVENT
BEGIN:VEVENT
DTSTART;TZID=America/Los_Angeles:20250213T160000
DTEND;TZID=America/Los_Angeles:20250213T170000
DTSTAMP:20260423T161109
CREATED:20250211T232438Z
LAST-MODIFIED:20250211T232904Z
UID:2231-1739462400-1739466000@loscab.com
SUMMARY:Racquetball Coaching Junior Clinic - Free
DESCRIPTION:
URL:https://loscab.com/event/racquetball-coaching-junior-clinic-free/
LOCATION:Los Cab\, 17272 Newhope Street\, Fountain Valley\, CA\, 92708\, United States
CATEGORIES:Racquetball
END:VEVENT
END:VCALENDAR