BEGIN:VCALENDAR
VERSION:2.0
PRODID:-//Los Cab Sports Club - ECPv6.15.16.1//NONSGML v1.0//EN
CALSCALE:GREGORIAN
METHOD:PUBLISH
X-WR-CALNAME:Los Cab Sports Club
X-ORIGINAL-URL:https://loscab.com
X-WR-CALDESC:Events for Los Cab Sports Club
REFRESH-INTERVAL;VALUE=DURATION:PT1H
X-Robots-Tag:noindex
X-PUBLISHED-TTL:PT1H
BEGIN:VTIMEZONE
TZID:America/Los_Angeles
BEGIN:DAYLIGHT
TZOFFSETFROM:-0800
TZOFFSETTO:-0700
TZNAME:PDT
DTSTART:20240310T100000
END:DAYLIGHT
BEGIN:STANDARD
TZOFFSETFROM:-0700
TZOFFSETTO:-0800
TZNAME:PST
DTSTART:20241103T090000
END:STANDARD
BEGIN:DAYLIGHT
TZOFFSETFROM:-0800
TZOFFSETTO:-0700
TZNAME:PDT
DTSTART:20250309T100000
END:DAYLIGHT
BEGIN:STANDARD
TZOFFSETFROM:-0700
TZOFFSETTO:-0800
TZNAME:PST
DTSTART:20251102T090000
END:STANDARD
BEGIN:DAYLIGHT
TZOFFSETFROM:-0800
TZOFFSETTO:-0700
TZNAME:PDT
DTSTART:20260308T100000
END:DAYLIGHT
BEGIN:STANDARD
TZOFFSETFROM:-0700
TZOFFSETTO:-0800
TZNAME:PST
DTSTART:20261101T090000
END:STANDARD
BEGIN:DAYLIGHT
TZOFFSETFROM:-0800
TZOFFSETTO:-0700
TZNAME:PDT
DTSTART:20270314T100000
END:DAYLIGHT
BEGIN:STANDARD
TZOFFSETFROM:-0700
TZOFFSETTO:-0800
TZNAME:PST
DTSTART:20271107T090000
END:STANDARD
END:VTIMEZONE
BEGIN:VEVENT
DTSTART;VALUE=DATE:20260416
DTEND;VALUE=DATE:20260420
DTSTAMP:20260423T121915
CREATED:20260112T053230Z
LAST-MODIFIED:20260112T053230Z
UID:2691-1776297600-1776643199@loscab.com
SUMMARY:The Players Championship - Racquetball Tournament
DESCRIPTION:
URL:https://loscab.com/event/the-players-championship-racquetball-tournament/
LOCATION:Los Cab\, 17272 Newhope Street\, Fountain Valley\, CA\, 92708\, United States
CATEGORIES:Racquetball
END:VEVENT
BEGIN:VEVENT
DTSTART;TZID=America/Los_Angeles:20260321T090000
DTEND;TZID=America/Los_Angeles:20260321T150000
DTSTAMP:20260423T121915
CREATED:20260310T082102Z
LAST-MODIFIED:20260310T082515Z
UID:2860-1774083600-1774105200@loscab.com
SUMMARY:Racquetball  cash and pizza  doubles Shootout Tournament!
DESCRIPTION:
URL:https://loscab.com/event/racquetball-cash-and-pizza-doubles-shootout-tournament/
CATEGORIES:Racquetball
END:VEVENT
BEGIN:VEVENT
DTSTART;TZID=America/Los_Angeles:20260226T180000
DTEND;TZID=America/Los_Angeles:20260226T200000
DTSTAMP:20260423T121915
CREATED:20260112T044514Z
LAST-MODIFIED:20260112T044514Z
UID:2662-1772128800-1772136000@loscab.com
SUMMARY:Racquetball League
DESCRIPTION:
URL:https://loscab.com/event/racquetball-league-8/
LOCATION:Los Cab\, 17272 Newhope Street\, Fountain Valley\, CA\, 92708\, United States
CATEGORIES:Racquetball
END:VEVENT
BEGIN:VEVENT
DTSTART;TZID=America/Los_Angeles:20260219T180000
DTEND;TZID=America/Los_Angeles:20260219T200000
DTSTAMP:20260423T121915
CREATED:20260112T044413Z
LAST-MODIFIED:20260112T044413Z
UID:2660-1771524000-1771531200@loscab.com
SUMMARY:Racquetball League
DESCRIPTION:
URL:https://loscab.com/event/racquetball-league-7/
LOCATION:Los Cab\, 17272 Newhope Street\, Fountain Valley\, CA\, 92708\, United States
CATEGORIES:Racquetball
END:VEVENT
BEGIN:VEVENT
DTSTART;TZID=America/Los_Angeles:20260212T180000
DTEND;TZID=America/Los_Angeles:20260212T200000
DTSTAMP:20260423T121915
CREATED:20260112T044310Z
LAST-MODIFIED:20260112T044310Z
UID:2658-1770919200-1770926400@loscab.com
SUMMARY:Racquetball League
DESCRIPTION:
URL:https://loscab.com/event/racquetball-league-6/
LOCATION:Los Cab\, 17272 Newhope Street\, Fountain Valley\, CA\, 92708\, United States
CATEGORIES:Racquetball
END:VEVENT
BEGIN:VEVENT
DTSTART;TZID=America/Los_Angeles:20260205T180000
DTEND;TZID=America/Los_Angeles:20260205T200000
DTSTAMP:20260423T121915
CREATED:20260112T044206Z
LAST-MODIFIED:20260112T044206Z
UID:2656-1770314400-1770321600@loscab.com
SUMMARY:Racquetball League
DESCRIPTION:
URL:https://loscab.com/event/racquetball-league-5/
LOCATION:Los Cab\, 17272 Newhope Street\, Fountain Valley\, CA\, 92708\, United States
CATEGORIES:Racquetball
END:VEVENT
BEGIN:VEVENT
DTSTART;TZID=America/Los_Angeles:20260129T180000
DTEND;TZID=America/Los_Angeles:20260129T200000
DTSTAMP:20260423T121915
CREATED:20260112T044059Z
LAST-MODIFIED:20260112T044059Z
UID:2654-1769709600-1769716800@loscab.com
SUMMARY:Racquetball League
DESCRIPTION:
URL:https://loscab.com/event/racquetball-league-4/
LOCATION:Los Cab\, 17272 Newhope Street\, Fountain Valley\, CA\, 92708\, United States
CATEGORIES:Racquetball
END:VEVENT
BEGIN:VEVENT
DTSTART;TZID=America/Los_Angeles:20260122T180000
DTEND;TZID=America/Los_Angeles:20260122T200000
DTSTAMP:20260423T121915
CREATED:20260112T043455Z
LAST-MODIFIED:20260112T043626Z
UID:2648-1769104800-1769112000@loscab.com
SUMMARY:Racquetball League
DESCRIPTION:
URL:https://loscab.com/event/racquetball-league/
LOCATION:Los Cab\, 17272 Newhope Street\, Fountain Valley\, CA\, 92708\, United States
CATEGORIES:Racquetball
END:VEVENT
BEGIN:VEVENT
DTSTART;TZID=America/Los_Angeles:20260115T180000
DTEND;TZID=America/Los_Angeles:20260115T200000
DTSTAMP:20260423T121915
CREATED:20260112T043951Z
LAST-MODIFIED:20260112T043951Z
UID:2652-1768500000-1768507200@loscab.com
SUMMARY:Racquetball League
DESCRIPTION:
URL:https://loscab.com/event/racquetball-league-3/
LOCATION:Los Cab\, 17272 Newhope Street\, Fountain Valley\, CA\, 92708\, United States
CATEGORIES:Racquetball
END:VEVENT
BEGIN:VEVENT
DTSTART;TZID=America/Los_Angeles:20250925T180000
DTEND;TZID=America/Los_Angeles:20250925T210000
DTSTAMP:20260423T121915
CREATED:20250918T060015Z
LAST-MODIFIED:20250918T060015Z
UID:2548-1758823200-1758834000@loscab.com
SUMMARY:Racquetball - Cash and Pizza Shootout
DESCRIPTION:  \n  \nWhen : Thursday\, September 25\, 2025 @ 6pm to 9pm \nWhere: Los Cab Sports Club\, 17272 Newhope St\, Fountain Valley\, Ca \nCost is $10 for members and $20 for non members \nRegistration start at 5:30pm and games will start at 6:00pm \nContact: George @ racquetball.shootout@gmail.com \nWe welcome all intermediate level players in this thrilling and competitive event. This tournament is a fantastic opportunity to showcase your skills and compete against other racquetball players. \n\nRacquetball – Sport Information & Rules \nDoubles Round Robin and Medal Round \n\nThis is blind draw shootout so no need to have a partner. You will be paired up with a partner. \n\nRegistration is now open! Don’t miss your chance to participate in this exciting event. The registration deadline is same day as the shootout but please be there by 5:30 for registration. \n\nWe can’t wait to see you on the court. \n  \n 
URL:https://loscab.com/event/racquetball-cash-and-pizza-shootout/
LOCATION:Los Cab\, 17272 Newhope Street\, Fountain Valley\, CA\, 92708\, United States
CATEGORIES:Racquetball
END:VEVENT
BEGIN:VEVENT
DTSTART;TZID=America/Los_Angeles:20250828T173000
DTEND;TZID=America/Los_Angeles:20250828T210000
DTSTAMP:20260423T121915
CREATED:20250826T221512Z
LAST-MODIFIED:20250826T221512Z
UID:2496-1756402200-1756414800@loscab.com
SUMMARY:Pizza Racquetball Shootout Tournament
DESCRIPTION:Free to members – $10 for non members
URL:https://loscab.com/event/pizza-racquetball-shootout-tournament/
LOCATION:Los Cab\, 17272 Newhope Street\, Fountain Valley\, CA\, 92708\, United States
CATEGORIES:Racquetball
END:VEVENT
BEGIN:VEVENT
DTSTART;TZID=America/Los_Angeles:20250812T160000
DTEND;TZID=America/Los_Angeles:20250812T170000
DTSTAMP:20260423T121915
CREATED:20250722T232454Z
LAST-MODIFIED:20250722T232454Z
UID:2476-1755014400-1755018000@loscab.com
SUMMARY:Racquetball Adult Clinic
DESCRIPTION:
URL:https://loscab.com/event/racquetball-adult-clinic-2/
LOCATION:Los Cab\, 17272 Newhope Street\, Fountain Valley\, CA\, 92708\, United States
CATEGORIES:Racquetball
END:VEVENT
BEGIN:VEVENT
DTSTART;TZID=America/Los_Angeles:20250812T153000
DTEND;TZID=America/Los_Angeles:20250812T160000
DTSTAMP:20260423T121915
CREATED:20250722T232345Z
LAST-MODIFIED:20250722T232345Z
UID:2473-1755012600-1755014400@loscab.com
SUMMARY:Racquetball Junior Clinic -Ages 10 - 17
DESCRIPTION:
URL:https://loscab.com/event/racquetball-junior-clinic-ages-10-17-2/
LOCATION:Los Cab\, 17272 Newhope Street\, Fountain Valley\, CA\, 92708\, United States
CATEGORIES:Racquetball
END:VEVENT
BEGIN:VEVENT
DTSTART;TZID=America/Los_Angeles:20250805T160000
DTEND;TZID=America/Los_Angeles:20250805T170000
DTSTAMP:20260423T121915
CREATED:20250722T232148Z
LAST-MODIFIED:20250722T232148Z
UID:2471-1754409600-1754413200@loscab.com
SUMMARY:Racquetball Adult Clinic
DESCRIPTION:
URL:https://loscab.com/event/racquetball-adult-clinic/
LOCATION:Los Cab\, 17272 Newhope Street\, Fountain Valley\, CA\, 92708\, United States
CATEGORIES:Racquetball
END:VEVENT
BEGIN:VEVENT
DTSTART;TZID=America/Los_Angeles:20250805T153000
DTEND;TZID=America/Los_Angeles:20250805T160000
DTSTAMP:20260423T121915
CREATED:20250722T232013Z
LAST-MODIFIED:20250722T232013Z
UID:2469-1754407800-1754409600@loscab.com
SUMMARY:Racquetball Junior Clinic - Ages 10-17
DESCRIPTION:
URL:https://loscab.com/event/racquetball-junior-clinic-ages-10-17/
LOCATION:Los Cab\, 17272 Newhope Street\, Fountain Valley\, CA\, 92708\, United States
CATEGORIES:Racquetball
END:VEVENT
BEGIN:VEVENT
DTSTART;TZID=America/Los_Angeles:20250722T170000
DTEND;TZID=America/Los_Angeles:20250722T180000
DTSTAMP:20260423T121915
CREATED:20250717T000700Z
LAST-MODIFIED:20250717T005204Z
UID:2465-1753203600-1753207200@loscab.com
SUMMARY:Racquetball Clinic – Court positioning and shot selection and serves
DESCRIPTION:
URL:https://loscab.com/event/racquetball-clinic-court-positioning-and-shot-selection-and-serves-2/
LOCATION:Los Cab\, 17272 Newhope Street\, Fountain Valley\, CA\, 92708\, United States
CATEGORIES:Racquetball
END:VEVENT
BEGIN:VEVENT
DTSTART;TZID=America/Los_Angeles:20250708T170000
DTEND;TZID=America/Los_Angeles:20250708T180000
DTSTAMP:20260423T121915
CREATED:20250716T235939Z
LAST-MODIFIED:20250716T235939Z
UID:2460-1751994000-1751997600@loscab.com
SUMMARY:Racquetball Clinic – Fundamentals of Racquetball and forehand and backhand
DESCRIPTION:
URL:https://loscab.com/event/racquetball-clinic-fundamentals-of-racquetball-and-forehand-and-backhand-3/
LOCATION:Los Cab\, 17272 Newhope Street\, Fountain Valley\, CA\, 92708\, United States
CATEGORIES:Racquetball
END:VEVENT
BEGIN:VEVENT
DTSTART;TZID=America/Los_Angeles:20250624T170000
DTEND;TZID=America/Los_Angeles:20250624T180000
DTSTAMP:20260423T121915
CREATED:20250602T063141Z
LAST-MODIFIED:20250602T063141Z
UID:2404-1750784400-1750788000@loscab.com
SUMMARY:Racquetball Clinic – Court positioning and shot selection and serves
DESCRIPTION:
URL:https://loscab.com/event/racquetball-clinic-court-positioning-and-shot-selection-and-serves/
LOCATION:Los Cab\, 17272 Newhope Street\, Fountain Valley\, CA\, 92708\, United States
CATEGORIES:Racquetball
END:VEVENT
BEGIN:VEVENT
DTSTART;TZID=America/Los_Angeles:20250610T170000
DTEND;TZID=America/Los_Angeles:20250610T180000
DTSTAMP:20260423T121915
CREATED:20250602T063028Z
LAST-MODIFIED:20250602T063028Z
UID:2402-1749574800-1749578400@loscab.com
SUMMARY:Racquetball Clinic – Fundamentals of Racquetball and forehand and backhand
DESCRIPTION:
URL:https://loscab.com/event/racquetball-clinic-fundamentals-of-racquetball-and-forehand-and-backhand-2/
LOCATION:Los Cab\, 17272 Newhope Street\, Fountain Valley\, CA\, 92708\, United States
CATEGORIES:Racquetball
END:VEVENT
BEGIN:VEVENT
DTSTART;TZID=America/Los_Angeles:20250527T170000
DTEND;TZID=America/Los_Angeles:20250527T180000
DTSTAMP:20260423T121915
CREATED:20250512T221401Z
LAST-MODIFIED:20250512T222522Z
UID:2384-1748365200-1748368800@loscab.com
SUMMARY:Racquetball Clinic - Court positioning and shot selection
DESCRIPTION:
URL:https://loscab.com/event/racquetball-clinic-court-positioning-and-shot-selection/
LOCATION:Los Cab\, 17272 Newhope Street\, Fountain Valley\, CA\, 92708\, United States
CATEGORIES:Racquetball
END:VEVENT
BEGIN:VEVENT
DTSTART;TZID=America/Los_Angeles:20250513T170000
DTEND;TZID=America/Los_Angeles:20250513T180000
DTSTAMP:20260423T121915
CREATED:20250512T221233Z
LAST-MODIFIED:20250512T221233Z
UID:2381-1747155600-1747159200@loscab.com
SUMMARY:Racquetball Clinic - Fundamentals of racquetball and forehand and backhand
DESCRIPTION:
URL:https://loscab.com/event/racquetball-clinic-fundamentals-of-racquetball-and-forehand-and-backhand/
LOCATION:Los Cab\, 17272 Newhope Street\, Fountain Valley\, CA\, 92708\, United States
CATEGORIES:Racquetball
END:VEVENT
BEGIN:VEVENT
DTSTART;TZID=America/Los_Angeles:20250218T170000
DTEND;TZID=America/Los_Angeles:20250218T180000
DTSTAMP:20260423T121915
CREATED:20250211T232727Z
LAST-MODIFIED:20250211T232727Z
UID:2237-1739898000-1739901600@loscab.com
SUMMARY:Racquetball Coaching Clinic - Free
DESCRIPTION:
URL:https://loscab.com/event/racquetball-coaching-clinic-free-2/
LOCATION:Los Cab\, 17272 Newhope Street\, Fountain Valley\, CA\, 92708\, United States
CATEGORIES:Racquetball
END:VEVENT
BEGIN:VEVENT
DTSTART;TZID=America/Los_Angeles:20250218T160000
DTEND;TZID=America/Los_Angeles:20250218T170000
DTSTAMP:20260423T121915
CREATED:20250211T232519Z
LAST-MODIFIED:20250211T232827Z
UID:2233-1739894400-1739898000@loscab.com
SUMMARY:Racquetball Coaching Junior Clinic - Free
DESCRIPTION:
URL:https://loscab.com/event/racquetball-coaching-junior-clinic-free-2/
LOCATION:Los Cab\, 17272 Newhope Street\, Fountain Valley\, CA\, 92708\, United States
CATEGORIES:Racquetball
END:VEVENT
BEGIN:VEVENT
DTSTART;TZID=America/Los_Angeles:20250213T170000
DTEND;TZID=America/Los_Angeles:20250213T180000
DTSTAMP:20260423T121915
CREATED:20250211T232628Z
LAST-MODIFIED:20250211T232628Z
UID:2235-1739466000-1739469600@loscab.com
SUMMARY:Racquetball Coaching Clinic - Free
DESCRIPTION:
URL:https://loscab.com/event/racquetball-coaching-clinic-free/
LOCATION:Los Cab\, 17272 Newhope Street\, Fountain Valley\, CA\, 92708\, United States
CATEGORIES:Racquetball
END:VEVENT
BEGIN:VEVENT
DTSTART;TZID=America/Los_Angeles:20250213T160000
DTEND;TZID=America/Los_Angeles:20250213T170000
DTSTAMP:20260423T121915
CREATED:20250211T232438Z
LAST-MODIFIED:20250211T232904Z
UID:2231-1739462400-1739466000@loscab.com
SUMMARY:Racquetball Coaching Junior Clinic - Free
DESCRIPTION:
URL:https://loscab.com/event/racquetball-coaching-junior-clinic-free/
LOCATION:Los Cab\, 17272 Newhope Street\, Fountain Valley\, CA\, 92708\, United States
CATEGORIES:Racquetball
END:VEVENT
END:VCALENDAR