BEGIN:VCALENDAR
VERSION:2.0
PRODID:-//Los Cab Sports Club - ECPv6.15.16.1//NONSGML v1.0//EN
CALSCALE:GREGORIAN
METHOD:PUBLISH
X-WR-CALNAME:Los Cab Sports Club
X-ORIGINAL-URL:https://loscab.com
X-WR-CALDESC:Events for Los Cab Sports Club
REFRESH-INTERVAL;VALUE=DURATION:PT1H
X-Robots-Tag:noindex
X-PUBLISHED-TTL:PT1H
BEGIN:VTIMEZONE
TZID:America/Los_Angeles
BEGIN:DAYLIGHT
TZOFFSETFROM:-0800
TZOFFSETTO:-0700
TZNAME:PDT
DTSTART:20240310T100000
END:DAYLIGHT
BEGIN:STANDARD
TZOFFSETFROM:-0700
TZOFFSETTO:-0800
TZNAME:PST
DTSTART:20241103T090000
END:STANDARD
BEGIN:DAYLIGHT
TZOFFSETFROM:-0800
TZOFFSETTO:-0700
TZNAME:PDT
DTSTART:20250309T100000
END:DAYLIGHT
BEGIN:STANDARD
TZOFFSETFROM:-0700
TZOFFSETTO:-0800
TZNAME:PST
DTSTART:20251102T090000
END:STANDARD
BEGIN:DAYLIGHT
TZOFFSETFROM:-0800
TZOFFSETTO:-0700
TZNAME:PDT
DTSTART:20260308T100000
END:DAYLIGHT
BEGIN:STANDARD
TZOFFSETFROM:-0700
TZOFFSETTO:-0800
TZNAME:PST
DTSTART:20261101T090000
END:STANDARD
END:VTIMEZONE
BEGIN:VEVENT
DTSTART;TZID=America/Los_Angeles:20250222T080000
DTEND;TZID=America/Los_Angeles:20250222T200000
DTSTAMP:20260424T055003
CREATED:20250212T005404Z
LAST-MODIFIED:20250212T184422Z
UID:2243-1740211200-1740254400@loscab.com
SUMMARY:Paddleball - Kind of the Court
DESCRIPTION:Start the year out in royal fashion! Join us for a 1-day Paddleball Shootout at the beautiful Los Cab Sports Club in Fountain Valley. We’ll play a round-robin doubles format (no partner needed)\, leaving only one left standing at the end as our King (or Queen) of the Court! \n\n\nFEB 22\, 2025\n\n\nA/B/C DIVISION\n8:00 am check-in\n8:30 am start\n\n\nOPEN/A DIVISION\n10:30 am check-in\n11:00 am start\n\n\n$20 entry fee. Raffles and prizes to be announced\, including entry fees to the US Open!! Water and snacks will be provided.\n\n\nSpace is limited to 25 players per division\, so register now! Contact Aaron Embry at (619) 339-9979 or aaron@playrball.com.
URL:https://loscab.com/event/paddleball-kind-of-the-court/
LOCATION:Los Cab\, 17272 Newhope Street\, Fountain Valley\, CA\, 92708\, United States
CATEGORIES:Paddleball
END:VEVENT
END:VCALENDAR