BEGIN:VCALENDAR
VERSION:2.0
PRODID:-//Los Cab Sports Club - ECPv6.15.16.1//NONSGML v1.0//EN
CALSCALE:GREGORIAN
METHOD:PUBLISH
X-ORIGINAL-URL:https://loscab.com
X-WR-CALDESC:Events for Los Cab Sports Club
REFRESH-INTERVAL;VALUE=DURATION:PT1H
X-Robots-Tag:noindex
X-PUBLISHED-TTL:PT1H
BEGIN:VTIMEZONE
TZID:America/Los_Angeles
BEGIN:DAYLIGHT
TZOFFSETFROM:-0800
TZOFFSETTO:-0700
TZNAME:PDT
DTSTART:20250309T100000
END:DAYLIGHT
BEGIN:STANDARD
TZOFFSETFROM:-0700
TZOFFSETTO:-0800
TZNAME:PST
DTSTART:20251102T090000
END:STANDARD
BEGIN:DAYLIGHT
TZOFFSETFROM:-0800
TZOFFSETTO:-0700
TZNAME:PDT
DTSTART:20260308T100000
END:DAYLIGHT
BEGIN:STANDARD
TZOFFSETFROM:-0700
TZOFFSETTO:-0800
TZNAME:PST
DTSTART:20261101T090000
END:STANDARD
BEGIN:DAYLIGHT
TZOFFSETFROM:-0800
TZOFFSETTO:-0700
TZNAME:PDT
DTSTART:20270314T100000
END:DAYLIGHT
BEGIN:STANDARD
TZOFFSETFROM:-0700
TZOFFSETTO:-0800
TZNAME:PST
DTSTART:20271107T090000
END:STANDARD
END:VTIMEZONE
BEGIN:VEVENT
DTSTART;TZID=America/Los_Angeles:20260222T140000
DTEND;TZID=America/Los_Angeles:20260222T200000
DTSTAMP:20260423T104227
CREATED:20260220T234824Z
LAST-MODIFIED:20260220T234824Z
UID:2804-1771768800-1771790400@loscab.com
SUMMARY:Lunar New Year Party - Open to the public
DESCRIPTION:Join us for our Lunar New Year & Tet Celebration this Sunday February 22nd at 3pm at the Pickleball Courts! There will be food and a Dragon Dance! This is open to the PUBLIC so invite your friends\,  Non-members may enter starting at 2pm. The dragon dance will be at 3pm. \nHappy New Year from Los Cab
URL:https://loscab.com/event/lunar-new-year-party-open-to-the-public/
LOCATION:Los Cab\, 17272 Newhope Street\, Fountain Valley\, CA\, 92708\, United States
END:VEVENT
END:VCALENDAR