BEGIN:VCALENDAR
VERSION:2.0
PRODID:-//Los Cab Sports Club - ECPv6.15.16.1//NONSGML v1.0//EN
CALSCALE:GREGORIAN
METHOD:PUBLISH
X-WR-CALNAME:Los Cab Sports Club
X-ORIGINAL-URL:https://loscab.com
X-WR-CALDESC:Events for Los Cab Sports Club
REFRESH-INTERVAL;VALUE=DURATION:PT1H
X-Robots-Tag:noindex
X-PUBLISHED-TTL:PT1H
BEGIN:VTIMEZONE
TZID:America/Los_Angeles
BEGIN:DAYLIGHT
TZOFFSETFROM:-0800
TZOFFSETTO:-0700
TZNAME:PDT
DTSTART:20240310T100000
END:DAYLIGHT
BEGIN:STANDARD
TZOFFSETFROM:-0700
TZOFFSETTO:-0800
TZNAME:PST
DTSTART:20241103T090000
END:STANDARD
BEGIN:DAYLIGHT
TZOFFSETFROM:-0800
TZOFFSETTO:-0700
TZNAME:PDT
DTSTART:20250309T100000
END:DAYLIGHT
BEGIN:STANDARD
TZOFFSETFROM:-0700
TZOFFSETTO:-0800
TZNAME:PST
DTSTART:20251102T090000
END:STANDARD
BEGIN:DAYLIGHT
TZOFFSETFROM:-0800
TZOFFSETTO:-0700
TZNAME:PDT
DTSTART:20260308T100000
END:DAYLIGHT
BEGIN:STANDARD
TZOFFSETFROM:-0700
TZOFFSETTO:-0800
TZNAME:PST
DTSTART:20261101T090000
END:STANDARD
END:VTIMEZONE
BEGIN:VEVENT
DTSTART;TZID=America/Los_Angeles:20250526T090000
DTEND;TZID=America/Los_Angeles:20250526T140000
DTSTAMP:20260423T215449
CREATED:20250507T230655Z
LAST-MODIFIED:20250507T230655Z
UID:2366-1748250000-1748268000@loscab.com
SUMMARY:Memorial Day Tennis Doo dah
DESCRIPTION:It’s Memorial DayDoo Dah Time!!! \nMonday\, May 26th \nIncludes Tennis – Lunch – Entry Gift – Prizes for Winners \nCheck-in is at 9am and tennis starts at 9:30 \nSign-ups are in the tennis lounge or call the tennis desk at (714)546-2900.   Deadline to sign-up is Thursday\, May 22nd \nFee is $50.00 \nThis is open to all Los Cab members and guests of members so spread the word!
URL:https://loscab.com/event/memorial-day-tennis-doo-dah-2/
LOCATION:Los Cab\, 17272 Newhope Street\, Fountain Valley\, CA\, 92708\, United States
END:VEVENT
BEGIN:VEVENT
DTSTART;TZID=America/Los_Angeles:20250526T110000
DTEND;TZID=America/Los_Angeles:20250526T160000
DTSTAMP:20260423T215449
CREATED:20250508T000852Z
LAST-MODIFIED:20250508T171559Z
UID:2374-1748257200-1748275200@loscab.com
SUMMARY:Memorial Day Pool Party
DESCRIPTION:
URL:https://loscab.com/event/memorial-day-pool-party/
CATEGORIES:Swim
END:VEVENT
END:VCALENDAR