BEGIN:VCALENDAR
VERSION:2.0
PRODID:-//Los Cab Sports Club - ECPv6.15.16.1//NONSGML v1.0//EN
CALSCALE:GREGORIAN
METHOD:PUBLISH
X-WR-CALNAME:Los Cab Sports Club
X-ORIGINAL-URL:https://loscab.com
X-WR-CALDESC:Events for Los Cab Sports Club
REFRESH-INTERVAL;VALUE=DURATION:PT1H
X-Robots-Tag:noindex
X-PUBLISHED-TTL:PT1H
BEGIN:VTIMEZONE
TZID:America/Los_Angeles
BEGIN:DAYLIGHT
TZOFFSETFROM:-0800
TZOFFSETTO:-0700
TZNAME:PDT
DTSTART:20240310T100000
END:DAYLIGHT
BEGIN:STANDARD
TZOFFSETFROM:-0700
TZOFFSETTO:-0800
TZNAME:PST
DTSTART:20241103T090000
END:STANDARD
BEGIN:DAYLIGHT
TZOFFSETFROM:-0800
TZOFFSETTO:-0700
TZNAME:PDT
DTSTART:20250309T100000
END:DAYLIGHT
BEGIN:STANDARD
TZOFFSETFROM:-0700
TZOFFSETTO:-0800
TZNAME:PST
DTSTART:20251102T090000
END:STANDARD
BEGIN:DAYLIGHT
TZOFFSETFROM:-0800
TZOFFSETTO:-0700
TZNAME:PDT
DTSTART:20260308T100000
END:DAYLIGHT
BEGIN:STANDARD
TZOFFSETFROM:-0700
TZOFFSETTO:-0800
TZNAME:PST
DTSTART:20261101T090000
END:STANDARD
END:VTIMEZONE
BEGIN:VEVENT
DTSTART;TZID=America/Los_Angeles:20250209T090000
DTEND;TZID=America/Los_Angeles:20250209T130000
DTSTAMP:20260424T014849
CREATED:20250116T011307Z
LAST-MODIFIED:20250116T011307Z
UID:2190-1739091600-1739106000@loscab.com
SUMMARY:Tennis Superbowl Doodah
DESCRIPTION:  \nIt’s Super Bowl Doo Dah Time!!! \nSunday\, February 9th \nIncludes Tennis – Lunch – Sweatshirt – Prizes \nCheck-in is at 9am and tennis starts at 9:30 \nSign-ups are in the tennis lounge or call the tennis desk at (714)546-2900.   Deadline to sign-up is Thursday\, February\, 6th \nFee is $50.00 \nYou can also see a sneak peak of the sweatshirt of you stop by the tennis lounge. \nThis is open to all Los Cab members and guests of members so spread the word! \n  \n  \n 
URL:https://loscab.com/event/tennis-superbowl-doodah/
LOCATION:Los Cab\, 17272 Newhope Street\, Fountain Valley\, CA\, 92708\, United States
END:VEVENT
END:VCALENDAR