BEGIN:VCALENDAR
VERSION:2.0
PRODID:-//Los Cab Sports Club - ECPv6.15.16.1//NONSGML v1.0//EN
CALSCALE:GREGORIAN
METHOD:PUBLISH
X-WR-CALNAME:Los Cab Sports Club
X-ORIGINAL-URL:https://loscab.com
X-WR-CALDESC:Events for Los Cab Sports Club
REFRESH-INTERVAL;VALUE=DURATION:PT1H
X-Robots-Tag:noindex
X-PUBLISHED-TTL:PT1H
BEGIN:VTIMEZONE
TZID:America/Los_Angeles
BEGIN:DAYLIGHT
TZOFFSETFROM:-0800
TZOFFSETTO:-0700
TZNAME:PDT
DTSTART:20220313T100000
END:DAYLIGHT
BEGIN:STANDARD
TZOFFSETFROM:-0700
TZOFFSETTO:-0800
TZNAME:PST
DTSTART:20221106T090000
END:STANDARD
BEGIN:DAYLIGHT
TZOFFSETFROM:-0800
TZOFFSETTO:-0700
TZNAME:PDT
DTSTART:20230312T100000
END:DAYLIGHT
BEGIN:STANDARD
TZOFFSETFROM:-0700
TZOFFSETTO:-0800
TZNAME:PST
DTSTART:20231105T090000
END:STANDARD
BEGIN:DAYLIGHT
TZOFFSETFROM:-0800
TZOFFSETTO:-0700
TZNAME:PDT
DTSTART:20240310T100000
END:DAYLIGHT
BEGIN:STANDARD
TZOFFSETFROM:-0700
TZOFFSETTO:-0800
TZNAME:PST
DTSTART:20241103T090000
END:STANDARD
END:VTIMEZONE
BEGIN:VEVENT
DTSTART;VALUE=DATE:20231215
DTEND;VALUE=DATE:20231218
DTSTAMP:20260424T212124
CREATED:20230702T182402Z
LAST-MODIFIED:20231201T220937Z
UID:1920-1702598400-1702857599@loscab.com
SUMMARY:MiPL Pickleball End of the Year Championships
DESCRIPTION:MiLP National Championships: a “Best of The Best” competition where teams come together to compete against the top players in their Division! The 2023 MiLP National Championships will consist of:\n5 Divisions: DUPR 14\, 16\, 18\, 20 & 22\nPrize Money: $31\,000\nSpecial Events & Experiences for the competitors. \nThe future is NOW as MiLP and its team format is sweeping the nation and creating the most fun and innovative play there is! \nMiLP National Championships: a “Best of The Best” competition where teams come together to compete against the top players in their Division! The 2023 MiLP National Championships will consist of:\n5 Divisions: DUPR 14\, 16\, 18\, 20 & 22\nPrize Money: $31\,000\nSpecial Events & Experiences for the competitors. \nThe future is NOW as MiLP and its team format is sweeping the nation and creating the most fun and innovative play there is! \nDates: Friday\, December 15th thru Sunday\, December 17th\nFriday\, December 15th: 1-4pm Swag Bag Pick Up/Check In & Open Play\nSaturday\, December 16th: Round Robin for All Divisions\nSunday\, December 17th: Bracket Playoffs (all teams guaranteed bracket playoffs) \nLocation: Los Cab Sports Club ~ 17272 Newhope St\, Fountain Valley\, CA 92708 \nPRIZE MONEY: $31\,000 to be awarded across ALL FIVE DIVISIONS equally! Top three teams will receive a portion of the prize money with the Champions earning the most! \n1st Place: $2\,500 per team\n2nd Place: $2\,000 per team\n3rd Place: $1\,500 per team\nUniform Contest Winners: $1\,000 one team \nRegistration: Once you have received your qualification email for Nationals\, please register your team below.\nNOTE: ONLY register if you have RECEIVED a congratulations email from the MiLP team. DUPR 14\, 16\, 18 and 20 have to pre qualify for Nationals. Teams that register for Nationals that are not qualified will receive a refund minus 10% of their registration total. \nFor 2023\, the DUPR 22 Division Teams do not need to qualify and can now choose to register once they have formed their team. DUPR 22 teams must have a minimum aggregate of 20.31. \nREFUND POLICY: A team must email caroline@mydupr.com to cancel and request a refund by 11:59pm CST Wednesday\, November 1\, 2023. Any cancellations after November 1st will not result in a refund. \nFinal Registration Closes at 10:00pm CST on Wednesday\, December 6\, 2023\nThe GUARANTEED team spot registration window has now closed. However\, we do have team spots available for various divisions. We are now on a first come\, first serve registration for qualified teams. Every team that has qualified can register\, but once a division fills up it will close. Please register as soon as possible to guarantee your team spot! \nWAITLIST is now OPEN! \nWant to play Nationals but your Division is Sold Out? Register via the waitlist! If a team spot becomes available\, paid waitlisted teams will be given priority to play. Waitlisted teams who do not compete will be refunded the full registration fee.
URL:https://loscab.com/event/mpl-pickleball-end-of-the-year-championships/
LOCATION:Los Cab\, 17272 Newhope Street\, Fountain Valley\, CA\, 92708\, United States
CATEGORIES:Pickleball
END:VEVENT
END:VCALENDAR