BEGIN:VCALENDAR
VERSION:2.0
PRODID:-//Los Cab Sports Club - ECPv6.15.16.1//NONSGML v1.0//EN
CALSCALE:GREGORIAN
METHOD:PUBLISH
X-WR-CALNAME:Los Cab Sports Club
X-ORIGINAL-URL:https://loscab.com
X-WR-CALDESC:Events for Los Cab Sports Club
REFRESH-INTERVAL;VALUE=DURATION:PT1H
X-Robots-Tag:noindex
X-PUBLISHED-TTL:PT1H
BEGIN:VTIMEZONE
TZID:America/Los_Angeles
BEGIN:DAYLIGHT
TZOFFSETFROM:-0800
TZOFFSETTO:-0700
TZNAME:PDT
DTSTART:20220313T100000
END:DAYLIGHT
BEGIN:STANDARD
TZOFFSETFROM:-0700
TZOFFSETTO:-0800
TZNAME:PST
DTSTART:20221106T090000
END:STANDARD
BEGIN:DAYLIGHT
TZOFFSETFROM:-0800
TZOFFSETTO:-0700
TZNAME:PDT
DTSTART:20230312T100000
END:DAYLIGHT
BEGIN:STANDARD
TZOFFSETFROM:-0700
TZOFFSETTO:-0800
TZNAME:PST
DTSTART:20231105T090000
END:STANDARD
BEGIN:DAYLIGHT
TZOFFSETFROM:-0800
TZOFFSETTO:-0700
TZNAME:PDT
DTSTART:20240310T100000
END:DAYLIGHT
BEGIN:STANDARD
TZOFFSETFROM:-0700
TZOFFSETTO:-0800
TZNAME:PST
DTSTART:20241103T090000
END:STANDARD
END:VTIMEZONE
BEGIN:VEVENT
DTSTART;VALUE=DATE:20230812
DTEND;VALUE=DATE:20230814
DTSTAMP:20260425T031914
CREATED:20230702T060130Z
LAST-MODIFIED:20230702T060130Z
UID:1918-1691798400-1691971199@loscab.com
SUMMARY:Minor League Pickleball - Socal Showdown
DESCRIPTION:AUGUST 12 @ 8:00 AM – AUGUST 13 @ 5:00 PM UTC-7\n$150.00 – $600.00\n\n\nThe future of pickleball leagues has arrived: Minor League Pickleball is launching fun\, social\, amateur team leagues across the country. \nFORMAT\nMinor League Pickleball is an innovative team competition where teams of four players (2 women and 2 men). Teams compete against each other over several days that encompass a novel and engaging format\, with twists on traditional match-ups and scoring for games\, matches\, and tiebreakers. \nTeams compete against each other in Matches. A Match consists of four Games\, starting with one women’s doubles Game\, followed by one men’s doubles Game\, and then two mixed doubles Games. If two teams are tied after these four games\, an innovative tiebreaker known as the “DreamBreaker™” (to 21) is played\, with a rotational system involving all four players. Teams first play each other in group or round-robin play\, and then the top teams square off in a single-elimination format. Prize money is distributed equally for women and men based on team performance. Prize money stated is based on full registrations in each division and subject to change. \n5 matches guaranteed \n12 teams are divided into three pools of four teams—the top two  teams from each pool advance to an elimination bracket (6 teams). The best two teams will have a bye into the semifinals. Quarter-final rounds are played in a single elimination round with a back draw to determine 1st to 6th places. \nThe third and fourth place from each pool will play in a six-team\nelimination bracket with the best two teams having a bye into the\nsemifinals with a back draw to determine 7th to 12th place. \nDay one\n3 pool play matches \nDay Two\n2 or 3 playoff matches depending on results \nDUPR 22* (The team’s aggregate DUPR must not exceed 22.30)\nDUPR 20 (The team’s aggregate DUPR must not exceed 20.30)\nDUPR 18 (The team’s aggregate DUPR must not exceed 18.30)\nDUPR 16 (The team’s aggregate DUPR must not exceed 16.30)
URL:https://loscab.com/event/minor-league-pickleball-socal-showdown/
LOCATION:Los Cab\, 17272 Newhope Street\, Fountain Valley\, CA\, 92708\, United States
CATEGORIES:Pickleball
END:VEVENT
END:VCALENDAR